BEGIN:VCALENDAR
VERSION:2.0
PRODID:-//Güero&#039;s Taco Bar - ECPv6.15.20//NONSGML v1.0//EN
CALSCALE:GREGORIAN
METHOD:PUBLISH
X-ORIGINAL-URL:https://gueros.com
X-WR-CALDESC:Events for Güero&#039;s Taco Bar
REFRESH-INTERVAL;VALUE=DURATION:PT1H
X-Robots-Tag:noindex
X-PUBLISHED-TTL:PT1H
BEGIN:VTIMEZONE
TZID:America/Chicago
BEGIN:DAYLIGHT
TZOFFSETFROM:-0600
TZOFFSETTO:-0500
TZNAME:CDT
DTSTART:20240310T080000
END:DAYLIGHT
BEGIN:STANDARD
TZOFFSETFROM:-0500
TZOFFSETTO:-0600
TZNAME:CST
DTSTART:20241103T070000
END:STANDARD
BEGIN:DAYLIGHT
TZOFFSETFROM:-0600
TZOFFSETTO:-0500
TZNAME:CDT
DTSTART:20250309T080000
END:DAYLIGHT
BEGIN:STANDARD
TZOFFSETFROM:-0500
TZOFFSETTO:-0600
TZNAME:CST
DTSTART:20251102T070000
END:STANDARD
BEGIN:DAYLIGHT
TZOFFSETFROM:-0600
TZOFFSETTO:-0500
TZNAME:CDT
DTSTART:20260308T080000
END:DAYLIGHT
BEGIN:STANDARD
TZOFFSETFROM:-0500
TZOFFSETTO:-0600
TZNAME:CST
DTSTART:20261101T070000
END:STANDARD
END:VTIMEZONE
BEGIN:VTIMEZONE
TZID:UTC
BEGIN:STANDARD
TZOFFSETFROM:+0000
TZOFFSETTO:+0000
TZNAME:UTC
DTSTART:20240101T000000
END:STANDARD
END:VTIMEZONE
BEGIN:VEVENT
DTSTART;TZID=America/Chicago:20250424T180000
DTEND;TZID=America/Chicago:20250424T200000
DTSTAMP:20260423T075000
CREATED:20241111T184746Z
LAST-MODIFIED:20250421T174709Z
UID:10001000-1745517600-1745524800@gueros.com
SUMMARY:Private Event
DESCRIPTION:
URL:https://gueros.com/event/buenos-diaz-2/
LOCATION:Güero’s Taco Bar\, 1412 South Congress Ave\, Austin\, 78704\, United States
ATTACH;FMTTYPE=image/jpeg:https://gueros.com/wp-content/uploads/2024/11/closed.jpeg
END:VEVENT
BEGIN:VEVENT
DTSTART;TZID=America/Chicago:20250426T170000
DTEND;TZID=America/Chicago:20250426T180000
DTSTAMP:20260423T075000
CREATED:20240827T182938Z
LAST-MODIFIED:20250325T155648Z
UID:10000985-1745686800-1745690400@gueros.com
SUMMARY:Scott Collins
DESCRIPTION:
URL:https://gueros.com/event/scott-collins/
LOCATION:Güero’s Taco Bar\, 1412 South Congress Ave\, Austin\, 78704\, United States
ATTACH;FMTTYPE=image/jpeg:https://gueros.com/wp-content/uploads/2024/08/ScottCollins.jpg
END:VEVENT
BEGIN:VEVENT
DTSTART;TZID=America/Chicago:20250501T180000
DTEND;TZID=America/Chicago:20250501T200000
DTSTAMP:20260423T075000
CREATED:20241118T173854Z
LAST-MODIFIED:20250410T172709Z
UID:10001006-1746122400-1746129600@gueros.com
SUMMARY:Wanderin Pines
DESCRIPTION:
URL:https://gueros.com/event/new-music-thursdays-wanderin-pines/
LOCATION:Güero’s Taco Bar\, 1412 South Congress Ave\, Austin\, 78704\, United States
ATTACH;FMTTYPE=image/jpeg:https://gueros.com/wp-content/uploads/2024/11/WanderinPine.jpg
END:VEVENT
BEGIN:VEVENT
DTSTART;TZID=America/Chicago:20250502T180000
DTEND;TZID=America/Chicago:20250502T210000
DTSTAMP:20260423T075000
CREATED:20240320T202952Z
LAST-MODIFIED:20250410T172800Z
UID:10000951-1746208800-1746219600@gueros.com
SUMMARY:Wave Rowanne
DESCRIPTION:
URL:https://gueros.com/event/wave-rowanne/
LOCATION:Güero’s Taco Bar\, 1412 South Congress Ave\, Austin\, 78704\, United States
ATTACH;FMTTYPE=image/jpeg:https://gueros.com/wp-content/uploads/2024/03/wave-rowanne.jpg
END:VEVENT
BEGIN:VEVENT
DTSTART;TZID=America/Chicago:20250503T180000
DTEND;TZID=America/Chicago:20250503T210000
DTSTAMP:20260423T075000
CREATED:20241111T184839Z
LAST-MODIFIED:20250410T174411Z
UID:10001001-1746295200-1746306000@gueros.com
SUMMARY:Ruthie Craft
DESCRIPTION:
URL:https://gueros.com/event/ruthie-craft/
LOCATION:Güero’s Taco Bar\, 1412 South Congress Ave\, Austin\, 78704\, United States
ATTACH;FMTTYPE=image/jpeg:https://gueros.com/wp-content/uploads/2024/03/ruthie-craft.jpg
END:VEVENT
BEGIN:VEVENT
DTSTART;TZID=America/Chicago:20250510T170000
DTEND;TZID=America/Chicago:20250510T180000
DTSTAMP:20260423T075000
CREATED:20240625T185226Z
LAST-MODIFIED:20250410T174954Z
UID:10000970-1746896400-1746900000@gueros.com
SUMMARY:Sky Zito
DESCRIPTION:
URL:https://gueros.com/event/sky-zito/
LOCATION:Güero’s Taco Bar\, 1412 South Congress Ave\, Austin\, 78704\, United States
ATTACH;FMTTYPE=image/jpeg:https://gueros.com/wp-content/uploads/2024/06/SkyZito.jpg
END:VEVENT
BEGIN:VEVENT
DTSTART;TZID=UTC:20250517T143000
DTEND;TZID=UTC:20250517T170000
DTSTAMP:20260423T075000
CREATED:20190731T163330Z
LAST-MODIFIED:20250410T175716Z
UID:10000493-1747492200-1747501200@gueros.com
SUMMARY:The Brew
DESCRIPTION:
URL:https://gueros.com/event/the-brew-2/
LOCATION:Güero’s Taco Bar\, 1412 South Congress Ave\, Austin\, 78704\, United States
CATEGORIES:Oak Garden Stage
ATTACH;FMTTYPE=image/jpeg:https://gueros.com/wp-content/uploads/2016/05/13217159_1169393636424447_3925720564772438261_o.jpg
END:VEVENT
BEGIN:VEVENT
DTSTART;TZID=America/Chicago:20250517T170000
DTEND;TZID=America/Chicago:20250517T180000
DTSTAMP:20260423T075000
CREATED:20250410T180217Z
LAST-MODIFIED:20250410T180217Z
UID:10001027-1747501200-1747504800@gueros.com
SUMMARY:Matt Giles
DESCRIPTION:
URL:https://gueros.com/event/matt-giles/
LOCATION:Güero’s Taco Bar\, 1412 South Congress Ave\, Austin\, 78704\, United States
ATTACH;FMTTYPE=image/jpeg:https://gueros.com/wp-content/uploads/2025/04/Matt-Giles.jpg
END:VEVENT
BEGIN:VEVENT
DTSTART;TZID=America/Chicago:20250524T170000
DTEND;TZID=America/Chicago:20250524T180000
DTSTAMP:20260423T075000
CREATED:20241111T190619Z
LAST-MODIFIED:20250410T180730Z
UID:10001003-1748106000-1748109600@gueros.com
SUMMARY:Brian Wolff
DESCRIPTION:
URL:https://gueros.com/event/brian-wolff-2/
LOCATION:Güero’s Taco Bar\, 1412 South Congress Ave\, Austin\, 78704\, United States
ATTACH;FMTTYPE=image/jpeg:https://gueros.com/wp-content/uploads/2024/11/Brian-Wolff.jpg
END:VEVENT
BEGIN:VEVENT
DTSTART;TZID=America/Chicago:20250531T143000
DTEND;TZID=America/Chicago:20250531T170000
DTSTAMP:20260423T075000
CREATED:20230614T195430Z
LAST-MODIFIED:20250410T181105Z
UID:10000921-1748701800-1748710800@gueros.com
SUMMARY:Jamie Krueger Group
DESCRIPTION:
URL:https://gueros.com/event/jamie-krueger-group/
LOCATION:Güero’s Taco Bar\, 1412 South Congress Ave\, Austin\, 78704\, United States
ATTACH;FMTTYPE=image/jpeg:https://gueros.com/wp-content/uploads/2023/06/JamieKruegerGroup.jpg
END:VEVENT
BEGIN:VEVENT
DTSTART;TZID=America/Chicago:20250531T170000
DTEND;TZID=America/Chicago:20250531T180000
DTSTAMP:20260423T075000
CREATED:20250107T172627Z
LAST-MODIFIED:20250410T181148Z
UID:10001010-1748710800-1748714400@gueros.com
SUMMARY:Scott Collins
DESCRIPTION:
URL:https://gueros.com/event/scott-collins-2/
LOCATION:Güero’s Taco Bar\, 1412 South Congress Ave\, Austin\, 78704\, United States
ATTACH;FMTTYPE=image/jpeg:https://gueros.com/wp-content/uploads/2024/08/ScottCollins.jpg
END:VEVENT
BEGIN:VEVENT
DTSTART;TZID=America/Chicago:20250531T180000
DTEND;TZID=America/Chicago:20250531T210000
DTSTAMP:20260423T075000
CREATED:20231213T210110Z
LAST-MODIFIED:20250410T181228Z
UID:10000935-1748714400-1748725200@gueros.com
SUMMARY:All Skate
DESCRIPTION:
URL:https://gueros.com/event/all-skate/
LOCATION:Güero’s Taco Bar\, 1412 South Congress Ave\, Austin\, 78704\, United States
ATTACH;FMTTYPE=image/jpeg:https://gueros.com/wp-content/uploads/2023/12/as-promo-1023-1200w-2-1.jpg
END:VEVENT
BEGIN:VEVENT
DTSTART;TZID=America/Chicago:20250607T170000
DTEND;TZID=America/Chicago:20250607T180000
DTSTAMP:20260423T075000
CREATED:20230614T200109Z
LAST-MODIFIED:20250521T155124Z
UID:10000756-1749315600-1749319200@gueros.com
SUMMARY:Sherita Perez
DESCRIPTION:
URL:https://gueros.com/event/sherita-perez/
LOCATION:Güero’s Taco Bar\, 1412 South Congress Ave\, Austin\, 78704\, United States
ATTACH;FMTTYPE=image/heic:https://gueros.com/wp-content/uploads/2023/06/3E356340-A0F6-420E-8B32-986EDC4E8E59.jpg
END:VEVENT
BEGIN:VEVENT
DTSTART;TZID=America/Chicago:20250613T180000
DTEND;TZID=America/Chicago:20250613T210000
DTSTAMP:20260423T075000
CREATED:20230105T143454Z
LAST-MODIFIED:20250609T192110Z
UID:10000858-1749837600-1749848400@gueros.com
SUMMARY:Private Event
DESCRIPTION:
URL:https://gueros.com/event/bruce-smith/
LOCATION:Güero’s Taco Bar\, 1412 South Congress Ave\, Austin\, 78704\, United States
ATTACH;FMTTYPE=image/jpeg:https://gueros.com/wp-content/uploads/2024/11/closed.jpeg
END:VEVENT
BEGIN:VEVENT
DTSTART;TZID=America/Chicago:20250614T180000
DTEND;TZID=America/Chicago:20250614T210000
DTSTAMP:20260423T075000
CREATED:20240524T170959Z
LAST-MODIFIED:20250521T155839Z
UID:10000965-1749924000-1749934800@gueros.com
SUMMARY:Latin Nights: Rey Arteaga Son Y No Son
DESCRIPTION:
URL:https://gueros.com/event/latin-nights-alex-cosmico-estella-taxi-dj-ulovei/
LOCATION:Güero’s Taco Bar\, 1412 South Congress Ave\, Austin\, 78704\, United States
ATTACH;FMTTYPE=image/jpeg:https://gueros.com/wp-content/uploads/2024/05/Rey-Arteaga.jpg
END:VEVENT
BEGIN:VEVENT
DTSTART;TZID=America/Chicago:20250619T180000
DTEND;TZID=America/Chicago:20250619T200000
DTSTAMP:20260423T075000
CREATED:20250521T160201Z
LAST-MODIFIED:20250521T160201Z
UID:10001031-1750356000-1750363200@gueros.com
SUMMARY:Alex Henley & the Exchange
DESCRIPTION:
URL:https://gueros.com/event/alex-henley-the-exchange/
LOCATION:Güero’s Taco Bar\, 1412 South Congress Ave\, Austin\, 78704\, United States
ATTACH;FMTTYPE=image/jpeg:https://gueros.com/wp-content/uploads/2025/05/Alex-Henley.jpg
END:VEVENT
BEGIN:VEVENT
DTSTART;TZID=America/Chicago:20250621T180000
DTEND;TZID=America/Chicago:20250621T210000
DTSTAMP:20260423T075000
CREATED:20230614T194653Z
LAST-MODIFIED:20250521T160513Z
UID:10000918-1750528800-1750539600@gueros.com
SUMMARY:Jonas Alverez Band
DESCRIPTION:
URL:https://gueros.com/event/jonas-alverez-band-3/
LOCATION:Güero’s Taco Bar\, 1412 South Congress Ave\, Austin\, 78704\, United States
ATTACH;FMTTYPE=image/jpeg:https://gueros.com/wp-content/uploads/2023/06/Jonas.jpg
END:VEVENT
BEGIN:VEVENT
DTSTART;TZID=America/Chicago:20250622T150000
DTEND;TZID=America/Chicago:20250622T180000
DTSTAMP:20260423T075000
CREATED:20250113T183526Z
LAST-MODIFIED:20250521T160603Z
UID:10001021-1750604400-1750615200@gueros.com
SUMMARY:Dan Whitaker
DESCRIPTION:
URL:https://gueros.com/event/dan-whitaker-4/
LOCATION:Güero’s Taco Bar\, 1412 South Congress Ave\, Austin\, 78704\, United States
ATTACH;FMTTYPE=image/jpeg:https://gueros.com/wp-content/uploads/2023/05/Dan-Whitaker.jpg
END:VEVENT
BEGIN:VEVENT
DTSTART;TZID=America/Chicago:20250627T180000
DTEND;TZID=America/Chicago:20250627T210000
DTSTAMP:20260423T075000
CREATED:20250113T183336Z
LAST-MODIFIED:20250521T160905Z
UID:10001020-1751047200-1751058000@gueros.com
SUMMARY:Trent Turner
DESCRIPTION:
URL:https://gueros.com/event/trent-turner-3/
LOCATION:Güero’s Taco Bar\, 1412 South Congress Ave\, Austin\, 78704\, United States
ATTACH;FMTTYPE=image/jpeg:https://gueros.com/wp-content/uploads/2021/09/trentturner.jpg
END:VEVENT
BEGIN:VEVENT
DTSTART;TZID=America/Chicago:20250628T170000
DTEND;TZID=America/Chicago:20250628T180000
DTSTAMP:20260423T075000
CREATED:20240626T193256Z
LAST-MODIFIED:20250521T161103Z
UID:10000971-1751130000-1751133600@gueros.com
SUMMARY:Eric Heideman
DESCRIPTION:
URL:https://gueros.com/event/eric-heideman/
LOCATION:Güero’s Taco Bar\, 1412 South Congress Ave\, Austin\, 78704\, United States
ATTACH;FMTTYPE=image/jpeg:https://gueros.com/wp-content/uploads/2024/06/ERicHeidmanSOLO.jpg
END:VEVENT
BEGIN:VEVENT
DTSTART;VALUE=DATE:20250704
DTEND;VALUE=DATE:20250705
DTSTAMP:20260423T075000
CREATED:20230614T194259Z
LAST-MODIFIED:20250630T190642Z
UID:10000915-1751587200-1751673599@gueros.com
SUMMARY:Happy Fourth of July!  We are Closed:)
DESCRIPTION:
URL:https://gueros.com/event/adam-johnson-band-3/
LOCATION:Güero’s Taco Bar\, 1412 South Congress Ave\, Austin\, 78704\, United States
ATTACH;FMTTYPE=image/jpeg:https://gueros.com/wp-content/uploads/2023/06/insta-4th.jpg
END:VEVENT
BEGIN:VEVENT
DTSTART;TZID=America/Chicago:20250705T170000
DTEND;TZID=America/Chicago:20250705T180000
DTSTAMP:20260423T075000
CREATED:20240719T183052Z
LAST-MODIFIED:20250617T183554Z
UID:10000977-1751734800-1751738400@gueros.com
SUMMARY:Anthony Wright
DESCRIPTION:
URL:https://gueros.com/event/anthony-wright/
LOCATION:Güero’s Taco Bar\, 1412 South Congress Ave\, Austin\, 78704\, United States
ATTACH;FMTTYPE=image/webp:https://gueros.com/wp-content/uploads/2024/07/Anthony-Wright.webp
END:VEVENT
BEGIN:VEVENT
DTSTART;TZID=America/Chicago:20250705T180000
DTEND;TZID=America/Chicago:20250705T210000
DTSTAMP:20260423T075000
CREATED:20250410T180639Z
LAST-MODIFIED:20250617T183744Z
UID:10001028-1751738400-1751749200@gueros.com
SUMMARY:Buenos Diaz
DESCRIPTION:
URL:https://gueros.com/event/buenos-diaz-4/
LOCATION:Güero’s Taco Bar\, 1412 South Congress Ave\, Austin\, 78704\, United States
ATTACH;FMTTYPE=image/jpeg:https://gueros.com/wp-content/uploads/2019/11/buenos-diaz.jpg
END:VEVENT
BEGIN:VEVENT
DTSTART;TZID=America/Chicago:20250724T180000
DTEND;TZID=America/Chicago:20250724T200000
DTSTAMP:20260423T075000
CREATED:20240320T202017Z
LAST-MODIFIED:20250617T185556Z
UID:10000949-1753380000-1753387200@gueros.com
SUMMARY:Ru Coleman and the Big Hurt
DESCRIPTION:
URL:https://gueros.com/event/new-music-thursdays-rue-coleman-and-the-big-hurt/
LOCATION:Güero’s Taco Bar\, 1412 South Congress Ave\, Austin\, 78704\, United States
ATTACH;FMTTYPE=image/jpeg:https://gueros.com/wp-content/uploads/2024/03/Rue-Coleman.jpg
END:VEVENT
BEGIN:VEVENT
DTSTART;TZID=America/Chicago:20250726T170000
DTEND;TZID=America/Chicago:20250726T180000
DTSTAMP:20260423T075000
CREATED:20250410T174025Z
LAST-MODIFIED:20250617T185821Z
UID:10001025-1753549200-1753552800@gueros.com
SUMMARY:Sam Lewis
DESCRIPTION:
URL:https://gueros.com/event/sam-lewis/
LOCATION:Güero’s Taco Bar\, 1412 South Congress Ave\, Austin\, 78704\, United States
ATTACH;FMTTYPE=image/jpeg:https://gueros.com/wp-content/uploads/2025/04/processed-25A4FF83-76AA-4236-A53B-6D2CFB754723-scaled.jpeg
END:VEVENT
BEGIN:VEVENT
DTSTART;TZID=America/Chicago:20250727T150000
DTEND;TZID=America/Chicago:20250727T180000
DTSTAMP:20260423T075000
CREATED:20231030T173718Z
LAST-MODIFIED:20250617T190029Z
UID:10000931-1753628400-1753639200@gueros.com
SUMMARY:Chicken Strut
DESCRIPTION:
URL:https://gueros.com/event/chicken-strut-12/
LOCATION:Güero’s Taco Bar\, 1412 South Congress Ave\, Austin\, 78704\, United States
ATTACH;FMTTYPE=image/jpeg:https://gueros.com/wp-content/uploads/2022/09/chicken-strut.jpg
END:VEVENT
BEGIN:VEVENT
DTSTART;TZID=America/Chicago:20250731T180000
DTEND;TZID=America/Chicago:20250731T200000
DTSTAMP:20260423T075000
CREATED:20240827T182433Z
LAST-MODIFIED:20250617T190106Z
UID:10000984-1753984800-1753992000@gueros.com
SUMMARY:Amber Lucille
DESCRIPTION:
URL:https://gueros.com/event/new-music-thursdays-amber-lucille/
LOCATION:Güero’s Taco Bar\, 1412 South Congress Ave\, Austin\, 78704\, United States
ATTACH;FMTTYPE=image/jpeg:https://gueros.com/wp-content/uploads/2024/08/amber.jpg
END:VEVENT
BEGIN:VEVENT
DTSTART;TZID=America/Chicago:20250807T180000
DTEND;TZID=America/Chicago:20250807T200000
DTSTAMP:20260423T075000
CREATED:20250617T182928Z
LAST-MODIFIED:20250721T183048Z
UID:10001037-1754589600-1754596800@gueros.com
SUMMARY:Swampland Band
DESCRIPTION:
URL:https://gueros.com/event/swampland-preservation-band/
LOCATION:Güero’s Taco Bar\, 1412 South Congress Ave\, Austin\, 78704\, United States
ATTACH;FMTTYPE=image/jpeg:https://gueros.com/wp-content/uploads/2025/06/Swampland.jpeg
END:VEVENT
BEGIN:VEVENT
DTSTART;TZID=America/Chicago:20250821T180000
DTEND;TZID=America/Chicago:20250821T200000
DTSTAMP:20260423T075000
CREATED:20250521T160824Z
LAST-MODIFIED:20250721T183905Z
UID:10001034-1755799200-1755806400@gueros.com
SUMMARY:Amber Lucille
DESCRIPTION:
URL:https://gueros.com/event/amber-lucille-2/
LOCATION:Güero’s Taco Bar\, 1412 South Congress Ave\, Austin\, 78704\, United States
ATTACH;FMTTYPE=image/jpeg:https://gueros.com/wp-content/uploads/2024/08/amber.jpg
END:VEVENT
BEGIN:VEVENT
DTSTART;TZID=America/Chicago:20250823T143000
DTEND;TZID=America/Chicago:20250823T170000
DTSTAMP:20260423T075000
CREATED:20250617T183847Z
LAST-MODIFIED:20250721T184024Z
UID:10001038-1755959400-1755968400@gueros.com
SUMMARY:Alex Henley & the Exchange
DESCRIPTION:
URL:https://gueros.com/event/alex-henley-the-exchange-2/
LOCATION:Güero’s Taco Bar\, 1412 South Congress Ave\, Austin\, 78704\, United States
ATTACH;FMTTYPE=image/jpeg:https://gueros.com/wp-content/uploads/2025/05/Alex-Henley.jpg
END:VEVENT
END:VCALENDAR